BEGIN:VCALENDAR
VERSION:2.0
PRODID:-//Bille44 - Edelbrand Manufaktur - ECPv6.0.9//NONSGML v1.0//EN
CALSCALE:GREGORIAN
METHOD:PUBLISH
X-WR-CALNAME:Bille44 - Edelbrand Manufaktur
X-ORIGINAL-URL:https://www.bille44.de
X-WR-CALDESC:Veranstaltungen für Bille44 - Edelbrand Manufaktur
REFRESH-INTERVAL;VALUE=DURATION:PT1H
X-Robots-Tag:noindex
X-PUBLISHED-TTL:PT1H
BEGIN:VTIMEZONE
TZID:UTC
BEGIN:STANDARD
TZOFFSETFROM:+0000
TZOFFSETTO:+0000
TZNAME:UTC
DTSTART:20220101T000000
END:STANDARD
END:VTIMEZONE
BEGIN:VEVENT
DTSTART;VALUE=DATE:20220915
DTEND;VALUE=DATE:20220916
DTSTAMP:20260420T150151
CREATED:20220613T151946Z
LAST-MODIFIED:20220613T151946Z
UID:5562-1663200000-1663286399@www.bille44.de
SUMMARY:Verkostungsabend im Haus der guten Weine Meersburg
DESCRIPTION:Verkostungsabend im Haus der guten Weine Meersburg
URL:https://www.bille44.de/veranstaltung/verkostungsabend-im-haus-der-guten-weine-meersburg
END:VEVENT
END:VCALENDAR